Workbook
Name \A: #REF!
Name \A: #REF!
Name \A: #REF!
Name \A: #REF!
Name \A: #REF!
Name \A: #REF!
Name \A: #REF!
Name \A: #REF!
Name \A: #REF!
Name \A: #REF!
Name \A: #REF!
Name \A: #REF!
Name \A: #REF!
Name \A: #REF!
Name \A: #REF!
Name \L: #REF!
Name \P: #REF!
Name \P: #REF!
Name \P: #REF!
Name \P: #REF!
Name \P: #REF!
Name \P: #REF!
Name \P: #REF!
Name \P: #REF!
Name \P: #REF!
Name \P: #REF!
Name \P: #REF!
Name \P: #REF!
Name \P: #REF!
Name \P: #REF!
Name \P: #REF!
Name ___LI97: #REF!
Name ___PIB01: #REF!
Name ___PIB02: #REF!
Name ___pib1: #REF!
Name ___var1: #REF!
Name __arp2: #REF!
Name __arp2: #REF!
Name __fmi1: #REF!
Name __fmi2: #REF!
Name __fmi3: #REF!
Name __fmi4: #REF!
Name __ivm2: #REF!
Name __ivm2: #REF!
Name __LI97: #REF!
Name __PIB01: #REF!
Name __PIB02: #REF!
Name __pib1: #REF!
Name __PIb2000: #REF!
Name __PIB93: #REF!
Name __PIB94: #REF!
Name __PIB95: #REF!
Name __PIB96: #REF!
Name __PIB97: #REF!
Name __PIB98: #REF!
Name __PIB99: #REF!
Name __rez2: #REF!
Name __rez3: #REF!
Name __rez4: #REF!
Name __var1: #REF!

Sheet ÍNDICE
A5: ÍNDICE DE CUADROS Y GRÁFICOS DE INGRESOS DEL PRESUPUESTO GENERAL DE LA NACIÓN-PGN
A6: Cifras a precios constantes 2026
A8: CUADROS
A9: Cuadro No. 1A. Aforo Ingresos del Presupuesto General de la Nación-PGN
A10: Cuadro No. 1B. Recaudo Ingresos del Presupuesto General de la Nación-PGN
A11: Cuadro No. 2A. Aforo Ingresos Corrientes de la Nación
A12: Cuadro No. 2B. Recaudo Ingresos Corrientes de la Nación
A13: Cuadro No. 3A. Aforo Recursos de Capital de la Nación
A14: Cuadro No. 3B. Recaudo Recursos de Capital de la Nación
A15: Cuadro No. 4A. Aforo Fondos Especiales de la Nación
A16: Cuadro No. 4B. Recaudo Fondos Especiales de la Nación
A17: Cuadro No. 5A. Aforo Contribuciones Parafiscales de la Nación
... A28: Gráfico No. 4. Recaudo Ingresos del Presupuesto Nacional

Sheet CUADRO 1A
B7: Cuadro No. 1A. Aforo Ingresos del Presupuesto General de la Nación-PGN
B8: Valores en miles de millones de pesos (precios constantes 2026)
B9: CONCEPTO | C9: 2000 | D9: 2001 | E9: 2002 | F9: 2003 | G9: 2004 | H9: 2005 1/ | I9: 2006 | J9: 2007 | K9: 2008 | L9: 2009 | M9: 2010 | N9: 2011 | O9: 2012 | P9: 2013 2/ | Q9: 2014 | R9: 2015 | S9: 2016 | T9: 2017 | U9: 2018 | V9: 2019 | W9: 2020 | X9: 2021 | Y9: 2022 | Z9: 2023 | AA9: 2024 | AB9: 2025 | AC9: 2026 3/
B10: Ingresos del Presupuesto Nacional | C10: 173214.54 | D10: 201021.72 | E10: 199930.07 | F10: 203398.4 | G10: 213387.4 | H10: 231666.86 | I10: 260508.28 | J10: 272843.08 | K10: 269459.99 | L10: 296712.81 | M10: 301490.4 | N10: 293344.65 | O10: 315223.93 | P10: 359251.66 | Q10: 363255.14 | R10: 358171.77 | S10: 341700.55 | T10: 357643.2 | U10: 354396.68 | V10: 366371.34 | W10: 450656.67 | X10: 471353.96 | Y10: 427603.57 | Z10: 470581.73 | AA10: 499494.94 | AB10: 513360.45 | AC10: 520809.04
B11: Ingresos Corrientes de la Nación | C11: 73334.541 | D11: 88501.202 | E11: 94394.807 | F11: 97036.048 | G11: 106103.78 | H11: 107265.05 | I11: 121938.45 | J11: 134689.84 | K11: 153171.34 | L11: 171085.77 | M11: 156429.17 | N11: 159186.11 | O11: 185158.26 | P11: 207181.54 | Q11: 203326.04 | R11: 202725.37 | S11: 203072.94 | T11: 208459.88 | U11: 222967.95 | V11: 224295.94 | W11: 207634.7 | X11: 219968.7 | Y11: 218901.66 | Z11: 323144.42 | AA11: 322072.67 | AB11: 324614.73 | AC11: 322818.69
B12: Recursos de Capital de la Nación | C12: 87892.395 | D12: 97526.329 | E12: 94921.367 | F12: 96214.516 | G12: 96287.345 | H12: 113789.37 | I12: 125262.93 | J12: 124391.1 | K12: 104984.5 | L12: 109948.51 | M12: 122910.64 | N12: 115659.19 | O12: 110162.88 | P12: 123245.92 | Q12: 116925.88 | R12: 117006.84 | S12: 104360.82 | T12: 122847.69 | U12: 110288.26 | V12: 122214.11 | W12: 159418.38 | X12: 194430.76 | Y12: 188119.27 | Z12: 127173.95 | AA12: 157012.4 | AB12: 166073.69 | AC12: 176244.52
B13: Contribuciones Parafiscales de la Nación | C13: 2834.5638 | D13: 3624.7682 | E13: 1210.0617 | F13: 2505.648 | G13: 1393.8005 | H13: 1482.858 | I13: 1576.8279 | J13: 1552.0738 | K13: 1692.8124 | L13: 1893.7184 | M13: 2530.5671 | N13: 1901.8955 | O13: 2160.49 | P13: 2448.3665 | Q13: 2508.0248 | R13: 2508.7334 | S13: 2703.5575 | T13: 2765.7252 | U13: 3121.9314 | V13: 3243.4909 | W13: 3427.6497 | X13: 3501.4849 | Y13: 3119.512 | Z13: 3174.0484 | AA13: 3462.5477 | AB13: 4274.924 | AC13: 4263.02
B14: Fondos Especiales de la Nación | C14: 9153.0403 | D14: 11369.425 | E14: 9403.8391 | F14: 7642.1869 | G14: 9602.4757 | H14: 9129.5734 | I14: 11730.059 | J14: 12210.063 | K14: 9611.3298 | L14: 13784.823 | M14: 19620.028 | N14: 16597.453 | O14: 17742.302 | P14: 26375.83 | Q14: 40495.188 | R14: 35930.824 | S14: 31563.234 | T14: 23569.904 | U14: 18018.532 | V14: 16617.806 | W14: 80175.928 | X14: 53453.018 | Y14: 17463.132 | Z14: 17089.312 | AA14: 16947.325 | AB14: 18397.103 | AC14: 17482.81
B15: Ingresos de los Establecimientos Públicos | C15: 15599.519 | D15: 16525.322 | E15: 16380.349 | F15: 14897.595 | G15: 22269.158 | H15: 21359.872 | I15: 18357.614 | J15: 19036.149 | K15: 20381.805 | L15: 25438.571 | M15: 27715.653 | N15: 27324.625 | O15: 27405.551 | P15: 29251.365 | Q15: 22346.619 | R15: 22478.122 | S15: 23161.101 | T15: 24348.599 | U15: 22189.764 | V15: 23104.422 | W15: 22667.171 | X15: 27154.282 | Y15: 24209.935 | Z15: 25532.363 | AA15: 30072.269 | AB15: 27915.958 | AC15: 30225.513
B16: Ingresos Corrientes | C16: 7476.0432 | D16: 8236.8883 | E16: 9338.8432 | F16: 8182.0774 | G16: 14836.75 | H16: 14608.349 | I16: 9457.3594 | J16: 8984.1042 | K16: 10123.372 | L16: 13094.26 | M16: 11920.322 | N16: 12004.402 | O16: 12159.931 | P16: 13260.388 | Q16: 13434.021 | R16: 12627.926 | S16: 12139.954 | T16: 12731.482 | U16: 11658.194 | V16: 12532.629 | W16: 12754.65 | X16: 15821.409 | Y16: 14486.558 | Z16: 12922.324 | AA16: 15155.861 | AB16: 13414.592 | AC16: 14510.812
B17: Recursos de Capital | C17: 2792.6318 | D17: 3044.4135 | E17: 1833.9616 | F17: 1455.8404 | G17: 2073.5108 | H17: 1248.0307 | I17: 2636.7471 | J17: 3286.6047 | K17: 2807.0425 | L17: 4128.3835 | M17: 6757.0212 | N17: 5631.7175 | O17: 4863.1104 | P17: 4297.2025 | Q17: 4930.1391 | R17: 4805.9816 | S17: 5309.5727 | T17: 5454.3973 | U17: 4113.7784 | V17: 4016.2119 | W17: 3400.577 | X17: 4671.9469 | Y17: 3734.3261 | Z17: 5713.5685 | AA17: 7840.4834 | AB17: 7214.6712 | AC17: 8164.3319
B18: Contribuciones Parafiscales de los Establecimientos Públicos | C18: 5330.8444 | D18: 5155.2046 | E18: 5094.4702 | F18: 5102.2624 | G18: 5247.9319 | H18: 5389.2279 | I18: 6021.2591 | J18: 6526.4526 | K18: 7221.2717 | L18: 7987.4205 | M18: 8652.1274 | N18: 9277.9601 | O18: 9935.238 | P18: 10968.531 | Q18: 3232.6472 | R18: 4307.4729 | S18: 4892.2307 | T18: 5211.8592 | U18: 5575.9015 | V18: 5732.7388 | W18: 5515.3822 | X18: 5722.1556 | Y18: 5184.6204 | Z18: 5875.2566 | AA18: 6226.3139 | AB18: 6309.8765 | AC18: 6513.0336
B19: Fondos Especiales Establecimientos Públicos | C19: 0 | D19: 88.815194 | E19: 113.07387 | F19: 157.41492 | G19: 110.96511 | H19: 114.26446 | I19: 242.24871 | J19: 238.98777 | K19: 230.11897 | L19: 228.50734 | M19: 386.18195 | N19: 410.54503 | O19: 447.2717 | P19: 725.24367 | Q19: 749.81173 | R19: 736.74133 | S19: 819.34318 | T19: 950.86039 | U19: 841.88989 | V19: 822.8427 | W19: 996.56125 | X19: 938.76993 | Y19: 804.43121 | Z19: 1021.2141 | AA19: 849.61115 | AB19: 976.81781 | AC19: 1037.3354
B20: TOTAL INGRESOS DEL PGN | C20: 188814.06 | D20: 217547.05 | E20: 216310.42 | F20: 218295.99 | G20: 235656.56 | H20: 253026.73 | I20: 278865.89 | J20: 291879.23 | K20: 289841.79 | L20: 322151.39 | M20: 329206.06 | N20: 320669.28 | O20: 342629.48 | P20: 388503.03 | Q20: 385601.75 | R20: 380649.89 | S20: 364861.65 | T20: 381991.8 | U20: 376586.44 | V20: 389475.76 | W20: 473323.84 | X20: 498508.24 | Y20: 451813.5 | Z20: 496114.09 | AA20: 529567.21 | AB20: 541276.4 | AC20: 551034.55
B21: Variación Porcentual | D21: 0.15217609 | E21: -0.0056843881 | F21: 0.0091792614 | G21: 0.079527638 | H21: 0.073709686 | I21: 0.10212028 | J21: 0.046665234 | K21: -0.0069804203 | L21: 0.11147321 | M21: 0.021898617 | N21: -0.025931422 | O21: 0.068482404 | P21: 0.13388676 | Q21: -0.0074678257 | R21: -0.012841914 | S21: -0.041477064 | T21: 0.046949709 | U21: -0.014150446 | V21: 0.034226723 | W21: 0.21528444 | X21: 0.053207549 | Y21: -0.093668931 | Z21: 0.098050607 | AA21: 0.067430296 | AB21: 0.02211087 | AC21: 0.018028031
B22: Fuente: Ministerio de Hacienda y Crédito Público. Ejecución de ingresos y gastos de las entidades que conforman el Presupuesto General de la Nación.
B23: Nota 1/: Los ingresos del Presupuesto Nacional del año 2005 no incluyen ingresos por $1,486 mm de la Ley de Financiamiento que el Congreso de la República no aprobó.
B24: Nota 2/: Los ingresos del Presupuesto Nacional del año 2013 no incluyen la sustitución de ingresos CREE contenidos en los Decretos 850 y 939 de 2013, los cuales no fueron modificados dentro de los ingresos de los Establecimientos Públicos.
B25: Nota 3/: Información a agosto de 2026.
B27: Deflactor 2026 | C27: 0.2679589 | D27: 0.28845321 | E27: 0.3086214 | F27: 0.32865513 | G27: 0.34672125 | H27: 0.36355514 | I27: 0.37983495 | J27: 0.40146451 | K27: 0.43227438 | L27: 0.44092769 | M27: 0.45491048 | N27: 0.47186356 | O27: 0.48337704 | P27: 0.49275455 | Q27: 0.51078937 | R27: 0.54536981 | S27: 0.57672857 | T27: 0.60031677 | U27: 0.61940684 | V27: 0.6429443 | W27: 0.65329571 | X27: 0.69001092 | Y27: 0.78054036 | Z27: 0.8529745 | AA27: 0.89732918 | AB27: 0.94310212 | AC27: 1

Sheet CUADRO 1B
B7: Cuadro No. 1B. Recaudo Ingresos del Presupuesto General de la Nación-PGN
B8: Valores en miles de millones de pesos (precios constantes 2026)
B9: CONCEPTO | C9: 2000 | D9: 2001 | E9: 2002 | F9: 2003 | G9: 2004 | H9: 2005 | I9: 2006 | J9: 2007 | K9: 2008 | L9: 2009 | M9: 2010 | N9: 2011 | O9: 2012 | P9: 2013 | Q9: 2014 | R9: 2015 2/ | S9: 2016 2/ | T9: 2017 | U9: 2018 | V9: 2019 | W9: 2020 | X9: 2021 | Y9: 2022 | Z9: 2023 | AA9: 2024 | AB9: 2025 | AC9: 2026 3/
B10: Ingresos del Presupuesto Nacional | C10: 163620.61 | D10: 199916.05 | E10: 174930.35 | F10: 200681.26 | G10: 194584.41 | H10: 235997.2 | I10: 245274.02 | J10: 230424.43 | K10: 260077.39 | L10: 271939.28 | M10: 248557.6 | N10: 281288.94 | O10: 291733.34 | P10: 333066.61 | Q10: 335018.73 | R10: 334775.01 | S10: 317580.7 | T10: 335320.83 | U10: 331303.98 | V10: 345653.3 | W10: 420888.47 | X10: 438066.55 | Y10: 391818.22 | Z10: 438906.48 | AA10: 413537.01 | AB10: 478905.83 | AC10: 340447.37
B11: Ingresos Corrientes de la Nación 1/ | C11: 75110.538 | D11: 87924.663 | E11: 88863.859 | F11: 96430.872 | G11: 106500.31 | H11: 117098.67 | I11: 135611.57 | J11: 143929.66 | K11: 150410.33 | L11: 148877.45 | M11: 149312.56 | N11: 179331.29 | O11: 199555.34 | P11: 200510.36 | Q11: 188726.49 | R11: 196209.29 | S11: 189272.69 | T11: 213840.36 | U11: 214150.9 | V11: 237983.3 | W11: 202897.47 | X11: 235443.69 | Y11: 273260.6 | Z11: 309720.79 | AA11: 275460.69 | AB11: 289148.18 | AC11: 201610.65
B12: Recursos de Capital de la Nación | C12: 78082.315 | D12: 105049.93 | E12: 75962.065 | F12: 94766.517 | G12: 79005.894 | H12: 108436.68 | I12: 98604.676 | J12: 72443.915 | K12: 97942.854 | L12: 113288.96 | M12: 88863.836 | N12: 88531.211 | O12: 78408.771 | P12: 108683.15 | Q12: 104741.02 | R12: 102255.68 | S12: 94510.52 | T12: 93921.797 | U12: 95361.568 | V12: 86239.804 | W12: 162772.21 | X12: 138810.64 | Y12: 94175.757 | Z12: 106390.81 | AA12: 114525.95 | AB12: 164503.31 | AC12: 123075.69
B13: Contribuciones Parafiscales de la Nación | C13: 0 | D13: 0 | E13: 2123.55 | F13: 0 | G13: 0 | H13: 0 | I13: 0 | J13: 1558.5204 | K13: 1486.3614 | L13: 477.11711 | M13: 0 | N13: 2262.9657 | O13: 1313.3741 | P13: 3595.1287 | Q13: 3904.9026 | R13: 2609.2517 | S13: 2832.0614 | T13: 2923.3779 | U13: 3215.2363 | V13: 3275.4538 | W13: 3332.4446 | X13: 3314.237 | Y13: 3425.5616 | Z13: 2996.9795 | AA13: 3975.0283 | AB13: 4167.0234 | AC13: 2886.6323
B14: Fondos Especiales de la Nación | C14: 10427.755 | D14: 6941.4526 | E14: 7980.8755 | F14: 9483.8745 | G14: 9078.2128 | H14: 10461.845 | I14: 11057.776 | J14: 12492.329 | K14: 10237.843 | L14: 9295.7465 | M14: 10381.206 | N14: 11163.47 | O14: 12455.857 | P14: 20277.973 | Q14: 37646.318 | R14: 33700.787 | S14: 30965.426 | T14: 24635.291 | U14: 18576.272 | V14: 18154.743 | W14: 51886.346 | X14: 60497.986 | Y14: 20956.299 | Z14: 19797.892 | AA14: 19575.333 | AB14: 21087.321 | AC14: 12874.398
B15: Ingresos de los Establecimientos Públicos | C15: 12776.89 | D15: 15002.918 | E15: 19379.453 | F15: 15716.531 | G15: 22407.953 | H15: 22641.646 | I15: 19445.35 | J15: 20586.402 | K15: 22466.353 | L15: 25861.707 | M15: 27132.06 | N15: 17922.583 | O15: 27107.998 | P15: 28226.446 | Q15: 24913.967 | R15: 24771.771 | S15: 25648.431 | T15: 26764.256 | U15: 25059.342 | V15: 25873.119 | W15: 23958.403 | X15: 27833.404 | Y15: 30455.581 | Z15: 29380.319 | AA15: 33246.141 | AB15: 32703.589 | AC15: 21475.807
B16: Ingresos Corrientes | C16: 7193.1957 | D16: 7752.057 | E16: 12994.278 | F16: 8469.3364 | G16: 14686.18 | H16: 15329.479 | I16: 9864.1341 | J16: 9277.4153 | K16: 11491.423 | L16: 12017.309 | M16: 11048.422 | N16: 8652.5187 | O16: 12170.048 | P16: 15199.761 | Q16: 13741.824 | R16: 13702.558 | S16: 13683.953 | T16: 13230.691 | U16: 14254.88 | V16: 14935.09 | W16: 12921.527 | X16: 15458.295 | Y16: 19159.404 | Z16: 16428.413 | AA16: 17461.645 | AB16: 16454.703 | AC16: 11325.875
B17: Recursos de Capital | C17: 1657.4123 | D17: 2022.8981 | E17: 1115.1969 | F17: 1606.074 | G17: 2095.2513 | H17: 1547.6803 | I17: 2835.1686 | J17: 4222.4591 | K17: 3363.2629 | L17: 5435.5043 | M17: 7062.3103 | N17: 3238.0296 | O17: 4600.0512 | P17: 5078.7885 | Q17: 5149.0711 | R17: 5085.651 | S17: 5866.3518 | T17: 7124.7078 | U17: 4021.6998 | V17: 4129.1755 | W17: 4274.0592 | X17: 5524.7487 | Y17: 4257.5141 | Z17: 5589.7971 | AA17: 8022.4 | AB17: 7507.225 | AC17: 4657.6578
B18: Contribuciones Parafiscales de los Establecimientos Públicos | C18: 3926.2822 | D18: 5092.4902 | E18: 5161.5972 | F18: 5243.0796 | G18: 5521.4871 | H18: 5637.9874 | I18: 6640.0053 | J18: 6971.7393 | K18: 7493.1042 | L18: 8303.1914 | M18: 8793.3295 | N18: 5932.7317 | O18: 10064.331 | P18: 7367.1492 | Q18: 5364.8421 | R18: 5338.033 | S18: 5415.938 | T18: 5567.7815 | U18: 5840.0228 | V18: 5856.7923 | W18: 5883.1731 | X18: 5951.5649 | Y18: 5923.5931 | Z18: 6156.0671 | AA18: 6495.4732 | AB18: 6727.4541 | AC18: 4312.1995
B19: Fondos Especiales Establecimientos Públicos | C19: 0 | D19: 135.47274 | E19: 108.3808 | F19: 398.04125 | G19: 105.03451 | H19: 126.49923 | I19: 106.04187 | J19: 114.78828 | K19: 118.56352 | L19: 105.70167 | M19: 227.99846 | N19: 99.303261 | O19: 273.56751 | P19: 580.74727 | Q19: 658.22921 | R19: 645.52943 | S19: 682.18851 | T19: 841.07603 | U19: 942.73921 | V19: 952.06087 | W19: 879.64339 | X19: 898.79519 | Y19: 1115.07 | Z19: 1206.0417 | AA19: 1266.6223 | AB19: 2014.2066 | AC19: 1180.0744
B20: TOTAL INGRESOS DEL PGN | C20: 176397.5 | D20: 214918.96 | E20: 194309.8 | F20: 216397.8 | G20: 216992.37 | H20: 258638.84 | I20: 264719.37 | J20: 251010.83 | K20: 282543.74 | L20: 297800.98 | M20: 275689.66 | N20: 299211.52 | O20: 318841.34 | P20: 361293.06 | Q20: 359932.7 | R20: 359546.79 | S20: 343229.13 | T20: 362085.08 | U20: 356363.32 | V20: 371526.42 | W20: 444846.87 | X20: 465899.96 | Y20: 422273.8 | Z20: 468286.8 | AA20: 446783.15 | AB20: 511609.42 | AC20: 361923.18
B21: Variación Porcentual | D21: 0.21837875 | E21: -0.095892717 | F21: 0.11367411 | G21: 0.0027475911 | H21: 0.19192599 | I21: 0.023509709 | J21: -0.051785179 | K21: 0.12562371 | L21: 0.053999578 | M21: -0.074248647 | N21: 0.085320056 | O21: 0.065605143 | P21: 0.13314373 | Q21: -0.0037652632 | R21: -0.0010721755 | S21: -0.045383956 | T21: 0.054936929 | U21: -0.01580227 | V21: 0.042549566 | W21: 0.19734922 | X21: 0.047326585 | Y21: -0.093638458 | Z21: 0.10896483 | AA21: -0.045919834 | AB21: 0.14509561 | AC21: -0.29257913
B22: Fuente: Ministerio de Hacienda y Crédito Público. Ejecución de ingresos y gastos de las entidades que conforman el Presupuesto General de la Nación.
B23: Nota 1/: La fuente de los datos de los Ingresos Corrientes de la Nación en las vigencias 2000-2021 es el Plan Financiero y el flujo de caja de la Dirección General de Crédito Público y Tesoro Nacional- DGCPTN. En las vigencias 2022-2025 es el Sistema Integrado de Información Financiera-SIIF.
B24: Nota 2/: En las vigencias 2015-2016 la suma del recaudo de la Sobretasa Impuesto sobre la Renta para la Equidad CREE y del Fondo especial Impuesto para la Renta CREE es el registrado en el SIIF.
B25: Nota 3/: Información a agosto de 2026.
B27: Deflactor 2026 | C27: ='CUADRO 1A'!C27 -> 0.2679589 | D27: ='CUADRO 1A'!D27 -> 0.28845321 | E27: ='CUADRO 1A'!E27 -> 0.3086214 | F27: ='CUADRO 1A'!F27 -> 0.32865513 | G27: ='CUADRO 1A'!G27 -> 0.34672125 | H27: ='CUADRO 1A'!H27 -> 0.36355514 | I27: ='CUADRO 1A'!I27 -> 0.37983495 | J27: ='CUADRO 1A'!J27 -> 0.40146451 | ... AC27: ='CUADRO 1A'!AC27 -> 1

Sheet CUADRO 2A
B7: Cuadro No. 2A. Aforo Ingresos Corrientes de la Nación
B8: Valores en millones de pesos (precios constantes 2026)
B9: CONCEPTO | C9: 2000 | D9: 2001 | E9: 2002 | F9: 2003 | G9: 2004 | H9: 2005 1/ | I9: 2006 | J9: 2007 | K9: 2008 | L9: 2009 | M9: 2010 | N9: 2011 | O9: 2012 | P9: 2013 2/ | Q9: 2014 | R9: 2015 | S9: 2016 | T9: 2017 | U9: 2018 | V9: 2019 | W9: 2020 | X9: 2021 | Y9: 2022 | Z9: 2023 | AA9: 2024 | AB9: 2025 | AC9: 2026 3/
B10: 1-0-00-1-01 INGRESOS TRIBUTARIOS | C10: 70875500 | D10: 85979524 | E10: 92538973 | F10: 96523843 | G10: 1.0552261e+08 | H10: 1.0666829e+08 | I10: 1.2137152e+08 | J10: 1.3412408e+08 | K10: 1.5260226e+08 | L10: 1.7021376e+08 | M10: 1.5531151e+08 | N10: 1.5826654e+08 | O10: 1.8396258e+08 | P10: 2.0612858e+08 | Q10: 2.022299e+08 | R10: 2.0103671e+08 | S10: 2.0218106e+08 | T10: 2.0730549e+08 | U10: 2.2177348e+08 | V10: 2.2223074e+08 | W10: 2.0663246e+08 | X10: 2.1792785e+08 | Y10: 2.1698652e+08 | Z10: 3.2142573e+08 | AA10: 3.2035709e+08 | AB10: 3.2326476e+08 | AC10: 3.2146262e+08
B11: 1-0-00-1-01-1 IMPUESTOS DIRECTOS | C11: 25803584 | D11: 34578023 | E11: 39045794 | F11: 40541872 | G11: 46068189 | H11: 44700622 | I11: 51084964 | J11: 58962690 | K11: 61072453 | L11: 71646996 | M11: 65819002 | N11: 70860662 | O11: 89727762 | P11: 98196243 | Q11: 96680679 | R11: 93048783 | S11: 85539345 | T11: 93038816 | U11: 97893880 | V11: 1.0154916e+08 | W11: 1.0018105e+08 | X11: 1.0562559e+08 | Y11: 1.0390014e+08 | Z11: 1.7429659e+08 | AA11: 1.6348664e+08 | AB11: 1.5846384e+08 | AC11: 165244304
B12: 1-0-00-1-01-1-01 IMPUESTO SOBRE LA RENTA Y COMPLEMENTARIOS | C12: 25803584 | D12: 34578023 | E12: 36952141 | F12: 35651672 | G12: 44802561 | H12: 43427212 | I12: 49866361 | J12: 56065796 | K12: 54179671 | L12: 66966913 | M12: 61130167 | N12: 64059038 | O12: 80890147 | P12: 89770811 | Q12: 88566939 | R12: 77029823 | S12: 69570370 | T12: 88355443 | U12: 97893880 | V12: 98609560 | W12: 98874647 | X12: 1.0394662e+08 | Y12: 1.0294219e+08 | Z12: 1.6980594e+08 | AA12: 1.5846132e+08 | AB12: 1.5442554e+08 | AC12: 151060894
B13: 1-0-00-1-01-1-02 REGIMEN IMPOSITIVO DE SUSTITUCION | C13: 0 | D13: 0 | E13: 0 | F13: 0 | G13: 0 | H13: 0 | I13: 0 | J13: 0 | K13: 0 | L13: 0 | M13: 0 | N13: 0 | O13: 0 | P13: 0 | Q13: 0 | R13: 0 | S13: 0 | T13: 0 | U13: 0 | V13: 0 | W13: 0 | X13: 0 | Y13: 0 | Z13: 0 | AA13: 0 | AB13: 0 | AC13: 0
B14: 1-0-00-1-01-1-04 IMPUESTO PARA PRESERVAR LA SEGURIDAD DEMOCRÁTICA | C14: 0 | D14: 0 | E14: 2093652.6 | F14: 4890200 | G14: 0 | H14: 0 | I14: 0 | J14: 0 | K14: 0 | L14: 0 | M14: 0 | N14: 0 | O14: 0 | P14: 0 | Q14: 0 | R14: 0 | S14: 0 | T14: 0 | U14: 0 | V14: 0 | W14: 0 | X14: 0 | Y14: 0 | Z14: 0 | AA14: 0 | AB14: 0 | AC14: 0
B15: 1-0-00-1-01-1-05 IMPUESTO AL PATRIMONIO | C15: 0 | D15: 0 | E15: 0 | F15: 0 | G15: 1265627.6 | H15: 1273410.7 | I15: 1218603 | J15: 2896893.7 | K15: 6892781.8 | L15: 4680082.6 | M15: 4688834.6 | N15: 5418560.9 | O15: 7072923.9 | P15: 6679861.2 | Q15: 6729961.9 | R15: 0 | S15: 0 | T15: 0 | U15: 0 | V15: 1244275.7 | W15: 1306399.2 | X15: 1336523.8 | Y15: 0 | Z15: 2080544 | AA15: 2197123.5 | AB15: 1494452.2 | AC15: 11109335
B16: 1-0-00-1-01-1-06 SOBRETASA IMPUESTO AL PATRIMONIO | C16: 0 | D16: 0 | E16: 0 | F16: 0 | G16: 0 | H16: 0 | I16: 0 | J16: 0 | K16: 0 | L16: 0 | M16: 0 | N16: 1383063.3 | O16: 1764690.8 | P16: 1745570.9 | Q16: 1383777.8 | R16: 0 | S16: 0 | T16: 0 | U16: 0 | V16: 0 | W16: 0 | X16: 0 | Y16: 0 | Z16: 0 | AA16: 0 | AB16: 0 | AC16: 0
B17: 1-0-00-1-01-1-08 IMPUESTO A LA RIQUEZA | C17: 0 | D17: 0 | E17: 0 | F17: 0 | G17: 0 | H17: 0 | I17: 0 | J17: 0 | K17: 0 | L17: 0 | M17: 0 | N17: 0 | O17: 0 | P17: 0 | Q17: 0 | R17: 8896284.6 | S17: 7505603.5 | T17: 4683372.4 | U17: 0 | V17: 139981.02 | W17: 0 | X17: 0 | Y17: 0 | Z17: 0 | AA17: 25969.288 | AB17: 0 | AC17: 0
B18: 1-0-00-1-01-1-08 SOBRETASA IMPUESTO SOBRE LA RENTA PARA LA EQUIDAD-CREE | C18: 0 | D18: 0 | E18: 0 | F18: 0 | G18: 0 | H18: 0 | I18: 0 | J18: 0 | K18: 0 | L18: 0 | M18: 0 | N18: 0 | O18: 0 | P18: 0 | Q18: 0 | R18: 7122675.2 | S18: 8463371.2 | T18: 0 | U18: 0 | V18: 0 | W18: 0 | X18: 0 | Y18: 0 | Z18: 0 | AA18: 0 | AB18: 0 | AC18: 0
B19: 1-0-00-1-01-1-10 IMPUESTO DE NORMALIZACIÓN TRIBUTARIA | C19: 0 | D19: 0 | E19: 0 | F19: 0 | G19: 0 | H19: 0 | I19: 0 | J19: 0 | K19: 0 | L19: 0 | M19: 0 | N19: 0 | O19: 0 | P19: 0 | Q19: 0 | R19: 0 | S19: 0 | T19: 0 | U19: 0 | V19: 1555344.7 | W19: 0 | X19: 0 | Y19: 461218.94 | Z19: 10381.319 | AA19: 0 | AB19: 0 | AC19: 0
B20: 1-0-00-1-01-1-12 IMPUESTO SIMPLE | C20: 0 | D20: 0 | E20: 0 | F20: 0 | G20: 0 | H20: 0 | I20: 0 | J20: 0 | K20: 0 | L20: 0 | M20: 0 | N20: 0 | O20: 0 | P20: 0 | Q20: 0 | R20: 0 | S20: 0 | T20: 0 | U20: 0 | V20: 0 | W20: 0 | X20: 342449.65 | Y20: 496739.21 | Z20: 2399722.4 | AA20: 2802222.5 | AB20: 2543846.5 | AC20: 3074075
B21: 1-0-00-1-01-2 IMPUESTOS INDIRECTOS | C21: 45071916 | D21: 51401500 | E21: 53493179 | F21: 55981971 | G21: 59454423 | H21: 61967670 | I21: 70286554 | J21: 75161387 | K21: 91529807 | L21: 98566768 | M21: 89492506 | N21: 87405876 | O21: 94234820 | P21: 1.0793233e+08 | Q21: 1.0554922e+08 | R21: 1.0798793e+08 | S21: 1.1664171e+08 | T21: 1.1426668e+08 | U21: 1.238796e+08 | V21: 1.2068157e+08 | W21: 1.0645141e+08 | X21: 1.1230225e+08 | Y21: 1.1308638e+08 | Z21: 1.4712914e+08 | AA21: 1.5687045e+08 | AB21: 1.6480092e+08 | AC21: 1.5621832e+08
... B44: TOTAL AFORO INGRESOS CORRIENTES DE LA NACIÓN | C44: 73334541 | D44: 88501202 | E44: 94394807 | F44: 97036048 | G44: 1.0610378e+08 | H44: 1.0726505e+08 | I44: 1.2193845e+08 | J44: 1.3468984e+08 | K44: 1.5317134e+08 | L44: 1.7108577e+08 | M44: 1.5642917e+08 | N44: 1.5918611e+08 | O44: 1.8515826e+08 | P44: 2.0718154e+08 | Q44: 2.0332604e+08 | R44: 2.0272537e+08 | S44: 2.0307294e+08 | T44: 2.0845988e+08 | U44: 2.2296795e+08 | V44: 2.2429594e+08 | W44: 2.076347e+08 | X44: 2.199687e+08 | Y44: 2.1890166e+08 | Z44: 3.2314442e+08 | AA44: 3.2207267e+08 | AB44: 3.2461473e+08 | AC44: 3.2281869e+08
B45: Variación Porcentual | D45: 0.2068147 | E45: 0.066593508 | F45: 0.027980787 | G45: 0.093447038 | H45: 0.010944687 | I45: 0.13679574 | J45: 0.10457235 | K45: 0.13721523 | L45: 0.11695675 | M45: -0.085668137 | N45: 0.017624229 | O45: 0.16315585 | P45: 0.11894305 | Q45: -0.018609287 | R45: -0.0029542526 | S45: 0.0017144918 | T45: 0.026527151 | U45: 0.069596453 | V45: 0.0059559428 | W45: -0.074282366 | X45: 0.059402371 | Y45: -0.004850881 | Z45: 0.47620821 | AA45: -0.0033166249 | AB45: 0.007892804 | AC45: -0.0055328373
B46: Fuente: Ministerio de Hacienda y Crédito Público. Ejecución de ingresos y gastos de las entidades que conforman el Presupuesto General de la Nación.
B47: Nota 1/: Los ingresos del Presupuesto Nacional del año 2005 no incluyen ingresos por $1,486 mm de la Ley de Financiamiento que el Congreso de la República no aprobó.
B48: Nota 2/: Los ingresos del Presupuesto Nacional del año 2013 no incluyen la sustitución de ingresos CREE contenidos en los Decretos 850 y 939 de 2013, los cuales no fueron modificados dentro de los ingresos de los Establecimientos Públicos.
B49: Nota 3/: Información a agosto de 2026.
B50: Nota 4/: El Impuesto Sobre las Ventas incluye el IVA Interno y Externo.
B51: ='[1]CUADRO 2A'!B48 -> #REF! | C51: ='CUADRO 1B'!C27 -> 0.2679589 | D51: ='CUADRO 1B'!D27 -> 0.28845321 | E51: ='CUADRO 1B'!E27 -> 0.3086214 | F51: ='CUADRO 1B'!F27 -> 0.32865513 | G51: ='CUADRO 1B'!G27 -> 0.34672125 | H51: ='CUADRO 1B'!H27 -> 0.36355514 | I51: ='CUADRO 1B'!I27 -> 0.37983495 | J51: ='CUADRO 1B'!J27 -> 0.40146451 | ... AC51: ='CUADRO 1B'!AC27 -> 1

Sheet CUADRO 2B
B7: Cuadro No. 2B. Recaudo Ingresos Corrientes de la Nación 1/
B8: Valores en millones de pesos (precios constantes 2026)
B9: CONCEPTO | C9: 2000 | D9: 2001 | E9: 2002 | F9: 2003 | G9: 2004 | H9: 2005 | I9: 2006 | J9: 2007 | K9: 2008 | L9: 2009 | M9: 2010 | N9: 2011 | O9: 2012 | P9: 2013 | Q9: 2014 | R9: 2015 | S9: 2016 | T9: 2017 | U9: 2018 | V9: 2019 | W9: 2020 | X9: 2021 | Y9: 2022 | Z9: 2023 | AA9: 2024 | AB9: 2025 | AC9: 2026 3/
B10: 1-0-00-1-01 INGRESOS TRIBUTARIOS | C10: 73308893 | D10: 85982731 | E10: 87802746 | F10: 95457815 | G10: 1.0595355e+08 | H10: 1.1632169e+08 | I10: 1.3500412e+08 | J10: 1.4297567e+08 | K10: 1.4884958e+08 | L10: 1.4779782e+08 | M10: 1.4793453e+08 | N10: 1.7812393e+08 | O10: 1.970837e+08 | P10: 1.9851478e+08 | Q10: 1.8750308e+08 | R10: 1.9496117e+08 | S10: 1.8814051e+08 | T10: 2.0476077e+08 | U10: 2.128166e+08 | V10: 2.3568612e+08 | W10: 2.0035955e+08 | X10: 2.3414872e+08 | Y10: 2.7186671e+08 | Z10: 3.0822404e+08 | AA10: 2.7362142e+08 | AB10: 2.8832706e+08 | AC10: 2.011547e+08
B11: 1-0-00-1-01-1 IMPUESTOS DIRECTOS | C11: 26509755 | D11: 33289202 | E11: 36795483 | F11: 39435204 | G11: 45089675 | H11: 48992122 | I11: 56827029 | J11: 61557188 | K11: 63959466 | L11: 68354408 | M11: 61966876 | N11: 79882328 | O11: 98994107 | P11: 99499465 | Q11: 81356876 | R11: 87906718 | S11: 87256685 | T11: 94346259 | U11: 98553527 | V11: 1.1312007e+08 | W11: 97280217 | X11: 1.0751619e+08 | Y11: 1.2358692e+08 | Z11: 1.6579383e+08 | AA11: 1.3343431e+08 | AB11: 1.3752028e+08 | AC11: 1.0055353e+08
B12: 1-0-00-1-01-1-01 IMPUESTO SOBRE LA RENTA Y COMPLEMENTARIOS | C12: 26509755 | D12: 33289202 | E12: 34710948 | F12: 35666556 | G12: 44371076 | H12: 47745273 | I12: 56796623 | J12: 58564550 | K12: 56531961 | L12: 63777005 | M12: 57633635 | N12: 70915767 | O12: 90337263 | P12: 90850668 | Q12: 73256102 | R12: 71028276 | S12: 69735400 | T12: 87969255 | U12: 97726121 | V12: 1.0984512e+08 | W12: 94519457 | X12: 1.0537084e+08 | Y12: 1.2230732e+08 | Z12: 1.6356427e+08 | AA12: 1.3044208e+08 | AB12: 1.3444656e+08 | AC12: 93156678
B13: 1-0-00-1-01-1-02 REGIMEN IMPOSITIVO DE SUSTITUCION | C13: 0 | D13: 0 | E13: 0 | F13: 0 | G13: 0 | H13: 0 | I13: 0 | J13: 0 | K13: 0 | L13: 0 | M13: 0 | N13: 0 | O13: 0 | P13: 0 | Q13: 0 | R13: 0 | S13: 0 | T13: 0 | U13: 0 | V13: 0 | W13: 0 | X13: 0 | Y13: 0 | Z13: 0 | AA13: 0 | AB13: 0 | AC13: 0
B14: 1-0-00-1-01-1-04 IMPUESTO PARA PRESERVAR LA SEGURIDAD DEMOCRÁTICA | C14: 0 | D14: 0 | E14: 2084535.7 | F14: 3768648.7 | G14: 718599.19 | H14: 20862.763 | I14: 7785.7486 | J14: 23868.22 | K14: 21361.668 | L14: 6134.2983 | M14: 6559.8191 | N14: 5681.2619 | O14: 5374.247 | P14: 8445.8777 | Q14: 334.10099 | R14: 1350.5395 | S14: 288.54252 | T14: 298.20879 | U14: 43.155691 | V14: 1576.7951 | W14: 0 | X14: 0 | Y14: 0 | Z14: 0 | AA14: 0 | AB14: 0 | AC14: 0
B15: 1-0-00-1-01-1-05 IMPUESTO AL PATRIMONIO | C15: 0 | D15: 0 | E15: 0 | F15: 0 | G15: 0 | H15: 1225986.6 | I15: 22620.4 | J15: 2968770 | K15: 7406143.4 | L15: 4571269.3 | M15: 4326681 | N15: 8960879.5 | O15: 8651469.4 | P15: 6924307.1 | Q15: 6466698 | R15: 210264.78 | S15: 59902.824 | T15: 33801.055 | U15: 29788.176 | V15: 1337381.5 | W15: 1422478 | X15: 1433761.7 | Y15: 93923.493 | Z15: 1420007.6 | AA15: 1634665.6 | AB15: 1316125.9 | AC15: 6064823.4
B16: 1-0-00-1-01-1-06 SOBRETASA IMPUESTO AL PATRIMONIO | C16: 0 | D16: 0 | E16: 0 | F16: 0 | G16: 0 | H16: 0 | I16: 0 | J16: 0 | K16: 0 | L16: 0 | M16: 0 | N16: 0 | O16: 0 | P16: 1716042.6 | Q16: 1633742.2 | R16: 31915.419 | S16: 6312.709 | T16: 2604.6389 | U16: 2483.4441 | V16: 1665.7935 | W16: 0 | X16: 0 | Y16: 0 | Z16: 0 | AA16: 0 | AB16: 0 | AC16: 0
B17: 1-0-00-1-01-1-08 IMPUESTO A LA RIQUEZA | C17: 0 | D17: 0 | E17: 0 | F17: 0 | G17: 0 | H17: 0 | I17: 0 | J17: 0 | K17: 0 | L17: 0 | M17: 0 | N17: 0 | O17: 0 | P17: 0 | Q17: 0 | R17: 9512236.6 | S17: 7628167 | T17: 6340299.8 | U17: 795091.1 | V17: 109212.87 | W17: 40250.756 | X17: 72499.597 | Y17: 18054.313 | Z17: 12349.297 | AA17: 6529.6392 | AB17: 9042.0833 | AC17: 3076.5516
B18: 1-0-00-1-01-1-08 SOBRETASA IMPUESTO SOBRE LA RENTA PARA LA EQUIDAD-CREE | C18: 0 | D18: 0 | E18: 0 | F18: 0 | G18: 0 | H18: 0 | I18: 0 | J18: 0 | K18: 0 | L18: 0 | M18: 0 | N18: 0 | O18: 0 | P18: 0 | Q18: 0 | R18: 7122675.6 | S18: 9826613.8 | T18: 0 | U18: 0 | V18: 0 | W18: 0 | X18: 0 | Y18: 0 | Z18: 0 | AA18: 0 | AB18: 0 | AC18: 0
B19: 1-0-00-1-01-1-10 IMPUESTO DE NORMALIZACIÓN TRIBUTARIA | C19: 0 | D19: 0 | E19: 0 | F19: 0 | G19: 0 | H19: 0 | I19: 0 | J19: 0 | K19: 0 | L19: 0 | M19: 0 | N19: 0 | O19: 0 | P19: 0 | Q19: 0 | R19: 0 | S19: 0 | T19: 0 | U19: 0 | V19: 1751802.2 | W19: 951686.63 | X19: 202238.25 | Y19: 307029.84 | Z19: 6786.9586 | AA19: 969.88433 | AB19: 1272.7583 | AC19: 319692.65
B20: 1-0-00-1-01-1-12 IMPUESTO SIMPLE | C20: 0 | D20: 0 | E20: 0 | F20: 0 | G20: 0 | H20: 0 | I20: 0 | J20: 0 | K20: 0 | L20: 0 | M20: 0 | N20: 0 | O20: 0 | P20: 0 | Q20: 0 | R20: 0 | S20: 0 | T20: 0 | U20: 0 | V20: 73309.557 | W20: 346344.53 | X20: 436850.65 | Y20: 860583.78 | Z20: 790415.32 | AA20: 1350064.2 | AB20: 1747279.1 | AC20: 1009262.1
B21: 1-0-00-1-01-2 IMPUESTOS INDIRECTOS | C21: 46799138 | D21: 52693530 | E21: 51007263 | F21: 56022612 | G21: 60863877 | H21: 67329564 | I21: 78177090 | J21: 81418483 | K21: 84890115 | L21: 79443411 | M21: 85967656 | N21: 98241600 | O21: 98089597 | P21: 99015311 | Q21: 1.0614621e+08 | R21: 1.0705445e+08 | S21: 1.0088382e+08 | T21: 1.1041451e+08 | U21: 1.1426307e+08 | V21: 1.2256605e+08 | W21: 1.0307933e+08 | X21: 1.2663253e+08 | Y21: 1.4827979e+08 | Z21: 1.424302e+08 | AA21: 1.4018711e+08 | AB21: 1.5080677e+08 | AC21: 1.0060117e+08
... B44: TOTAL RECAUDO INGRESOS CORRIENTES DE LA NACIÓN | C44: 75110538 | D44: 87924663 | E44: 88863859 | F44: 96430872 | G44: 1.0650031e+08 | H44: 1.1709867e+08 | I44: 1.3561157e+08 | J44: 1.4392966e+08 | K44: 1.5041033e+08 | L44: 1.4887745e+08 | M44: 1.4931256e+08 | N44: 1.7933129e+08 | O44: 1.9955534e+08 | P44: 2.0051036e+08 | Q44: 1.8872649e+08 | R44: 1.9620929e+08 | S44: 1.8927269e+08 | T44: 2.1384036e+08 | U44: 2.141509e+08 | V44: 2.379833e+08 | W44: 2.0289747e+08 | X44: 2.3544369e+08 | Y44: 2.732606e+08 | Z44: 3.0972079e+08 | AA44: 2.7546069e+08 | AB44: 2.8914818e+08 | AC44: 2.0161065e+08
B45: Variación Porcentual | D45: 0.17060355 | E45: 0.010681822 | F45: 0.085152882 | G45: 0.10442129 | H45: 0.099514875 | I45: 0.15809653 | J45: 0.061337661 | K45: 0.045026614 | L45: -0.010191284 | M45: 0.0029225861 | N45: 0.20104625 | O45: 0.11277477 | P45: 0.0047857539 | Q45: -0.058769357 | R45: 0.039648916 | S45: -0.035353082 | T45: 0.1298004 | U45: 0.0014521921 | V45: 0.1112879 | W45: -0.1474298 | X45: 0.1604072 | Y45: 0.16061979 | Z45: 0.13342645 | AA45: -0.11061609 | AB45: 0.049689424 | AC45: -0.30274278
B46: Fuente: Ministerio de Hacienda y Crédito Público. Ejecución de ingresos y gastos de las entidades que conforman el Presupuesto General de la Nación.
B47: Nota 1/: La fuente de los datos de los Ingresos Corrientes de la Nación en las vigencias 2000-2021 es el Plan Financiero y el flujo de caja de la Dirección General de Crédito Público y Tesoro Nacional- DGCPTN. En las vigencias 2022-2025 es el Sistema Integrado de Información Financiera-SIIF.
B48: Nota 2/: El Impuesto sobre las Ventas solo incluye el IVA Interno
B49: Nota 3/: Información a agosto de 2026
B50: Nota 4/: El Impuesto sobre Aduanas y Recargos incluye el IVA Externo y Aranceles.
B51: ='[2]CUADRO 2B'!B51 -> 0 | C51: ='CUADRO 2A'!C51 -> 0.2679589 | D51: ='CUADRO 2A'!D51 -> 0.28845321 | E51: ='CUADRO 2A'!E51 -> 0.3086214 | F51: ='CUADRO 2A'!F51 -> 0.32865513 | G51: ='CUADRO 2A'!G51 -> 0.34672125 | H51: ='CUADRO 2A'!H51 -> 0.36355514 | I51: ='CUADRO 2A'!I51 -> 0.37983495 | J51: ='CUADRO 2A'!J51 -> 0.40146451 | ... AC51: ='CUADRO 2A'!AC51 -> 1

Sheet CUADRO 3A
B7: Cuadro No. 3A. Aforo Recursos de Capital de la Nación
B8: Valores en millones de pesos (precios constantes 2026)
B9: CONCEPTO | C9: 2000 | D9: 2001 | E9: 2002 | F9: 2003 | G9: 2004 | H9: 2005 | I9: 2006 | J9: 2007 | K9: 2008 | L9: 2009 | M9: 2010 | N9: 2011 | O9: 2012 | P9: 2013 | Q9: 2014 | R9: 2015 | S9: 2016 | T9: 2017 | U9: 2018 | V9: 2019 | W9: 2020 | X9: 2021 | Y9: 2022 | Z9: 2023 | AA9: 2024 | AB9: 2025 | AC9: 2026 3/
B10: 2-0-00-2-01 DISPOSICIÓN DE ACTIVOS | C10: 9357808.2 | D10: 2903961.8 | E10: 0 | F10: 0 | G10: 865248.38 | H10: 1182764.2 | I10: 2632722.4 | J10: 958988.89 | K10: 1295473.5 | L10: 7014755.7 | M10: 3077528.6 | N10: 5858024 | O10: 10579733 | P10: 3186170.7 | Q10: 0 | R10: 0 | S10: 0 | T10: 1080429.6 | U10: 0 | V10: 3888361.7 | W10: 535745.14 | X10: 20289534 | Y10: 9096262.5 | Z10: 0 | AA10: 0 | AB10: 0 | AC10: 0
B11: 2-0-00-2-02 EXCEDENTES FINANCIEROS, DIVIDENDOS Y UTILIDADES POR OTRAS INVERSIONES DE CAPITAL | C11: 5615643.3 | D11: 6572504.3 | E11: 8820547.7 | F11: 6056111.1 | G11: 8237433.9 | H11: 6227173.7 | I11: 7067804 | J11: 18401171 | K11: 13604785 | L11: 21727497 | M11: 11012321 | N11: 14705629 | O11: 14055645 | P11: 26015527 | Q11: 26608095 | R11: 17514080 | S11: 6309205.1 | T11: 3421060.5 | U11: 4825003.3 | V11: 13531977 | W11: 17512774 | X11: 12465089 | Y11: 12763630 | Z11: 33237034 | AA11: 32863543 | AB11: 20703994 | AC11: 20437986
B12: 2-0-00-2-03 TRASLADOS FONDOS DTN | C12: 0 | D12: 0 | E12: 0 | F12: 0 | G12: 3749409.6 | H12: 3575798.7 | I12: 1303197.6 | J12: 1260385.4 | K12: 0 | L12: 0 | M12: 0 | N12: 0 | O12: 0 | P12: 0 | Q12: 0 | R12: 0 | S12: 0 | T12: 0 | U12: 0 | V12: 0 | W12: 0 | X12: 0 | Y12: 0 | Z12: 0 | AA12: 0 | AB12: 0 | AC12: 0
B13: 2-0-00-2-05 RENDIMIENTOS FINANCIEROS | C13: 1845421.1 | D13: 2354430.3 | E13: 2734725.4 | F13: 2097423.5 | G13: 1994158.7 | H13: 1728890.4 | I13: 1470913.3 | J13: 1399874.7 | K13: 1452940.6 | L13: 1527354.2 | M13: 1799282.8 | N13: 1227751.2 | O13: 1164271.3 | P13: 1330598.5 | Q13: 1756135.8 | R13: 1684473.6 | S13: 874994.07 | T13: 2861822.4 | U13: 3117340.6 | V13: 4298873.6 | W13: 3110042.7 | X13: 613699.88 | Y13: 728497.06 | Z13: 1460316.8 | AA13: 1477130.2 | AB13: 0 | AC13: 1702657
B14: 2-0-00-2-06 RECURSOS DE CRÉDITO EXTERNO | C14: 17807974 | D14: 30144939 | E14: 29085082 | F14: 34526715 | G14: 26328908 | H14: 17156705 | I14: 26129039 | J14: 23509295 | K14: 13712575 | L14: 19813682 | M14: 19512212 | N14: 16526032 | O14: 16316405 | P14: 9761452.2 | Q14: 20660899 | R14: 18139636 | S14: 24671117 | T14: 30342506 | U14: 18895439 | V14: 21275748 | W14: 61141582 | X14: 52610761 | Y14: 50365109 | Z14: 32206121 | AA14: 30569225 | AB14: 36431519 | AC14: 57726334
B15: 2-0-00-2-07 RECURSOS DE CRÉDITO INTERNO | C15: 49292386 | D15: 54963464 | E15: 51457640 | F15: 39503811 | G15: 49283509 | H15: 73767667 | I15: 75796266 | J15: 61582743 | K15: 56938373 | L15: 57833484 | M15: 57447600 | N15: 59339186 | O15: 56891408 | P15: 61595110 | Q15: 64997438 | R15: 63217655 | S15: 67695623 | T15: 69033554 | U15: 69582699 | V15: 72634597 | W15: 71560244 | X15: 80190035 | Y15: 80563186 | Z15: 54969521 | AA15: 82141540 | AB15: 1.0159027e+08 | AC15: 85250000
B16: 2-0-00-2-08 TRANSFERENCIAS DE CAPITAL | C16: 0 | D16: 0 | E16: 0 | F16: 0 | G16: 0 | H16: 0 | I16: 0 | J16: 0 | K16: 0 | L16: 0 | M16: 0 | N16: 0 | O16: 0 | P16: 0 | Q16: 0 | R16: 0 | S16: 0 | T16: 0 | U16: 0 | V16: 85971.664 | W16: 144651.82 | X16: 263416.66 | Y16: 248565.54 | Z16: 115565.8 | AA16: 86866.192 | AB16: 146503.09 | AC16: 55225.892
B17: 2-0-00-2-09 RECUPERACIÓN DE CARTERA – PRESTAMOS | C17: 616956.55 | D17: 79694.033 | E17: 260569.89 | F17: 368647.92 | G17: 401897.29 | H17: 303131.46 | I17: 321494.33 | J17: 91928.426 | K17: 80047.785 | L17: 78705.088 | M17: 53785.857 | N17: 222937.06 | O17: 409306.04 | P17: 350507.54 | Q17: 467256.99 | R17: 348800.68 | S17: 350580.5 | T17: 335019.49 | U17: 324694.22 | V17: 365081.33 | W17: 410568.19 | X17: 270286.12 | Y17: 296433.93 | Z17: 298235.22 | AA17: 194497.19 | AB17: 0 | AC17: 888035.42
B18: 2-0-00-2-10 RECURSOS DEL BALANCE | C18: 0 | D18: 0 | E18: 0 | F18: 0 | G18: 0 | H18: 0 | I18: 0 | J18: 0 | K18: 0 | L18: 0 | M18: 0 | N18: 0 | O18: 0 | P18: 0 | Q18: 0 | R18: 0 | S18: 0 | T18: 0 | U18: 0 | V18: 0 | W18: 2970881.7 | X18: 19310120 | Y18: 989058.4 | Z18: 760160.01 | AA18: 6566512.2 | AB18: 0 | AC18: 0
B19: 2-0-00-2-13 REINTEGROS Y OTROS RECURSOS NO APROPIADOS | C19: 3319507.4 | D19: 444775.77 | E19: 2545227 | F19: 706722.57 | G19: 528000.3 | H19: 402929.25 | I19: 1192831 | J19: 378992.41 | K19: 463033.58 | L19: 367865.31 | M19: 974415.09 | N19: 520186.47 | O19: 624098.57 | P19: 644314.47 | Q19: 1019791.5 | R19: 1208333.6 | S19: 1221654.9 | T19: 885267.94 | U19: 916274.58 | V19: 2828645.3 | W19: 782187.91 | X19: 2089822 | Y19: 768698.24 | Z19: 2342833.4 | AA19: 2228836.5 | AB19: 0 | AC19: 1929474
B20: 2-0-00-2-14 OTROS RECURSOS DE CAPITAL | C20: 36699.105 | D20: 62559.89 | E20: 17575.064 | F20: 12955084 | G20: 4898779.3 | H20: 9444314.4 | I20: 9348666.7 | J20: 16807723 | K20: 17437273 | L20: 1585165.2 | M20: 29033496 | N20: 17259445 | O20: 10122013 | P20: 20362243 | Q20: 1416265.3 | R20: 14893866 | S20: 3237646.3 | T20: 14888027 | U20: 12626814 | V20: 3304853 | W20: 1249707 | X20: 6327992.4 | Y20: 32299830 | Z20: 1784159.9 | AA20: 884246.73 | AB20: 7201402.2 | AC20: 8254807.9
B21: TOTAL AFORO RECURSOS DE CAPITAL DE LA NACIÓN | C21: 87892395 | D21: 97526329 | E21: 94921367 | F21: 96214516 | G21: 96287345 | H21: 1.1378937e+08 | I21: 1.2526293e+08 | J21: 1.243911e+08 | K21: 1.049845e+08 | L21: 1.0994851e+08 | M21: 1.2291064e+08 | N21: 1.1565919e+08 | O21: 1.1016288e+08 | P21: 1.2324592e+08 | Q21: 1.1692588e+08 | R21: 1.1700684e+08 | S21: 1.0436082e+08 | T21: 1.2284769e+08 | U21: 1.1028826e+08 | V21: 1.2221411e+08 | W21: 1.5941838e+08 | X21: 1.9443076e+08 | Y21: 1.8811927e+08 | Z21: 1.2717395e+08 | AA21: 1.570124e+08 | AB21: 1.6607369e+08 | AC21: 1.7624452e+08
B22: Variación Porcentual | D22: 0.10961055 | E22: -0.026710344 | F22: 0.013623367 | G22: 0.00075694959 | H22: 0.18176873 | I22: 0.10083156 | J22: -0.0069600229 | K22: -0.15601277 | L22: 0.04728323 | M22: 0.11789277 | N22: -0.058997746 | O22: -0.047521609 | P22: 0.11876091 | Q22: -0.051279931 | R22: 0.00069243679 | S22: -0.10807934 | T22: 0.17714373 | U22: -0.10223572 | V22: 0.10813339 | W22: 0.30441883 | X22: 0.21962569 | Y22: -0.032461359 | Z22: -0.32397172 | AA22: 0.23462707 | AB22: 0.057710683 | AC22: 0.061242878
B23: Fuente: Ministerio de Hacienda y Crédito Público. Ejecución de ingresos y gastos de las entidades que conforman el Presupuesto General de la Nación.
B24: Nota 1/: Información a agosto de 2026.
B26: Deflactor 2026 | C26: ='CUADRO 2B'!C51 -> 0.2679589 | D26: ='CUADRO 2B'!D51 -> 0.28845321 | E26: ='CUADRO 2B'!E51 -> 0.3086214 | F26: ='CUADRO 2B'!F51 -> 0.32865513 | G26: ='CUADRO 2B'!G51 -> 0.34672125 | H26: ='CUADRO 2B'!H51 -> 0.36355514 | I26: ='CUADRO 2B'!I51 -> 0.37983495 | J26: ='CUADRO 2B'!J51 -> 0.40146451 | ... AC26: ='CUADRO 2B'!AC51 -> 1

Sheet CUADRO 3B
B7: Cuadro No. 3B. Recaudo Recursos de Capital de la Nación
B8: Valores en millones de pesos (precios constantes 2026)
B9: CONCEPTO | C9: 2000 | D9: 2001 | E9: 2002 | F9: 2003 | G9: 2004 | H9: 2005 | I9: 2006 | J9: 2007 | K9: 2008 | L9: 2009 | M9: 2010 | N9: 2011 | O9: 2012 | P9: 2013 | Q9: 2014 | R9: 2015 | S9: 2016 | T9: 2017 | U9: 2018 | V9: 2019 | W9: 2020 | X9: 2021 | Y9: 2022 | Z9: 2023 | AA9: 2024 | AB9: 2025 | AC9: 2026 3/
B10: 2-0-00-2-01 DISPOSICIÓN DE ACTIVOS | C10: 2790293.6 | D10: 10001.959 | E10: 8836.9886 | F10: 6223.7362 | G10: 66179.168 | H10: 38296.88 | I10: 27405.005 | J10: 4674414.9 | K10: 2763575.7 | L10: 2168191.9 | M10: 30585.163 | N10: 17783.108 | O10: 1725074.9 | P10: 75441.933 | Q10: 80615.354 | R10: 33780.829 | S10: 21592.231 | T10: 21702.042 | U10: 117608.91 | V10: 550039 | W10: 82102.592 | X10: 19757465 | Y10: 216465.44 | Z10: 310.71818 | AA10: 12544.967 | AB10: 1903.0448 | AC10: 858027.77
B11: 2-0-00-2-02 EXCEDENTES FINANCIEROS, DIVIDENDOS Y UTILIDADES POR OTRAS INVERSIONES DE CAPITAL | C11: 5673955.9 | D11: 9906496 | E11: 8527981.4 | F11: 8766732.5 | G11: 7154790.3 | H11: 1520698.5 | I11: 2543184.3 | J11: 3466889.1 | K11: 3927556.8 | L11: 540716.17 | M11: 8407080 | N11: 12977923 | O11: 13758188 | P11: 27118899 | Q11: 21788871 | R11: 10519968 | S11: 2667887.7 | T11: 4091809.1 | U11: 8972081.8 | V11: 23953808 | W11: 23836926 | X11: 13130193 | Y11: 14992085 | Z11: 23803062 | AA11: 27899748 | AB11: 23122789 | AC11: 22078752
B12: 2-0-00-2-03 TRASLADOS FONDOS DTN | C12: 0 | D12: 0 | E12: 0 | F12: 0 | G12: 0 | H12: 0 | I12: 0 | J12: 0 | K12: 0 | L12: 0 | M12: 0 | N12: 0 | O12: 0 | P12: 0 | Q12: 0 | R12: 0 | S12: 0 | T12: 0 | U12: 0 | V12: 0 | W12: 0 | X12: 0 | Y12: 0 | Z12: 0 | AA12: 0 | AB12: 0 | AC12: 0
B13: 2-0-00-2-05 RENDIMIENTOS FINANCIEROS | C13: 2253601 | D13: 3259160.6 | E13: 3217138.3 | F13: 2489316.9 | G13: 618646.87 | H13: 4815857.5 | I13: 8032349.2 | J13: 9520109.8 | K13: 15467409 | L13: 21081650 | M13: 3455143.8 | N13: 171369.29 | O13: 185477.45 | P13: 575105.12 | Q13: 687500.64 | R13: 546413.27 | S13: 850237.84 | T13: 732476.9 | U13: 809255.07 | V13: 599655.59 | W13: 535444.95 | X13: 385370.57 | Y13: 561806.08 | Z13: 1149750.4 | AA13: 940390.82 | AB13: 1127980.9 | AC13: 826885.95
B14: 2-0-00-2-06 RECURSOS DE CRÉDITO EXTERNO | C14: 21455829 | D14: 40187919 | E14: 19126216 | F14: 39464458 | G14: 20530634 | H14: 19664276 | I14: 26580453 | J14: 6239306.1 | K14: 13751547 | L14: 26853477 | M14: 14140133 | N14: 11671532 | O14: 6910798.7 | P14: 17162027 | Q14: 21834453 | R14: 34199909 | S14: 25024869 | T14: 25154188 | U14: 20038969 | V14: 19098895 | W14: 74104854 | X14: 47284421 | Y14: 26565647 | Z14: 31853298 | AA14: 30177539 | AB14: 45363899 | AC14: 19888125
B15: 2-0-00-2-07 RECURSOS DE CRÉDITO INTERNO | C15: 45141961 | D15: 48557188 | E15: 43581499 | F15: 42540284 | G15: 48479228 | H15: 78937417 | I15: 60480191 | J15: 47689336 | K15: 54755653 | L15: 58613802 | M15: 60758742 | N15: 62354059 | O15: 52732668 | P15: 61692997 | Q15: 58897111 | R15: 55709401 | S15: 63483483 | T15: 62174571 | U15: 62923049 | V15: 39835428 | W15: 62117516 | X15: 56494465 | Y15: 46761915 | Z15: 45090115 | AA15: 53177103 | AB15: 90987365 | AC15: 77469284
B16: 2-0-00-2-08 TRANSFERENCIAS DE CAPITAL | C16: 0 | D16: 0 | E16: 0 | F16: 0 | G16: 0 | H16: 0 | I16: 0 | J16: 0 | K16: 0 | L16: 0 | M16: 0 | N16: 0 | O16: 0 | P16: 0 | Q16: 0 | R16: 0 | S16: 0 | T16: 0 | U16: 0 | V16: 307806.24 | W16: 210538.09 | X16: 160882.67 | Y16: 175005.88 | Z16: 49410.101 | AA16: 128254.68 | AB16: 94496.307 | AC16: 2421.382
B17: 2-0-00-2-09 RECUPERACIÓN DE CARTERA – PRESTAMOS | C17: 133664.84 | D17: 467216.84 | E17: 373185.45 | F17: 444629.19 | G17: 997162.92 | H17: 143383.77 | I17: 274911.12 | J17: 215754.74 | K17: 132268.66 | L17: 182129.43 | M17: 89806.95 | N17: 34927.584 | O17: 81648.492 | P17: 303776.73 | Q17: 285250.83 | R17: 247916.77 | S17: 716609.37 | T17: 506328.32 | U17: 918432.45 | V17: 615577.8 | W17: 427707.36 | X17: 371668.04 | Y17: 2700513.1 | Z17: 3137673.4 | AA17: 1052415.8 | AB17: 1063708.5 | AC17: 619733.29
B18: 2-0-00-2-10 RECURSOS DEL BALANCE | C18: 0 | D18: 0 | E18: 0 | F18: 0 | G18: 0 | H18: 0 | I18: 0 | J18: 0 | K18: 0 | L18: 0 | M18: 0 | N18: 0 | O18: 0 | P18: 0 | Q18: 0 | R18: 0 | S18: 0 | T18: 0 | U18: 0 | V18: 0 | W18: 0 | X18: 0 | Y18: 0 | Z18: 0 | AA18: 0 | AB18: 0 | AC18: 0
B19: 2-0-00-2-13 REINTEGROS Y OTROS RECURSOS NO APROPIADOS | C19: 609276.96 | D19: 896511.58 | E19: 1122747.1 | F19: 1040550.1 | G19: 1110508.3 | H19: 2970732.1 | I19: 634238.48 | J19: 568573.53 | K19: 1018934.5 | L19: 729438.03 | M19: 1067514.6 | N19: 1192771.8 | O19: 2245001 | P19: 1633188.7 | Q19: 845469.47 | R19: 854827.55 | S19: 1538324.1 | T19: 941110.59 | U19: 1005464.5 | V19: 1278594.7 | W19: 1457118.5 | X19: 1226175.4 | Y19: 2202319 | Z19: 1307192.4 | AA19: 1034713.6 | AB19: 2639011.1 | AC19: 1232307
B20: 2-0-00-2-14 OTROS RECURSOS DE CAPITAL | C20: 23732.99 | D20: 1765437 | E20: 4460.686 | F20: 14322.609 | G20: 48744.978 | H20: 346018.1 | I20: 31943.994 | J20: 69530.101 | K20: 6125909.8 | L20: 3119555.3 | M20: 914830.11 | N20: 110844.17 | O20: 769914.09 | P20: 121718.07 | Q20: 321744.77 | R20: 143464.36 | S20: 207516.16 | T20: 299611.71 | U20: 576707.07 | V20: 0 | W20: 0 | X20: 0 | Y20: 0 | Z20: 0 | AA20: 103242.82 | AB20: 102157.34 | AC20: 100153.3
B21: TOTAL AFORO RECURSOS DE CAPITAL DE LA NACIÓN | C21: 78082315 | D21: 1.0504993e+08 | E21: 75962065 | F21: 94766517 | G21: 79005894 | H21: 1.0843668e+08 | I21: 98604676 | J21: 72443915 | K21: 97942854 | L21: 1.1328896e+08 | M21: 88863836 | N21: 88531211 | O21: 78408771 | P21: 1.0868315e+08 | Q21: 1.0474102e+08 | R21: 1.0225568e+08 | S21: 94510520 | T21: 93921797 | U21: 95361568 | V21: 86239804 | W21: 1.6277221e+08 | X21: 1.3881064e+08 | Y21: 94175757 | Z21: 1.0639081e+08 | AA21: 1.1452595e+08 | AB21: 1.6450331e+08 | AC21: 1.2307569e+08
B22: Variación Porcentual | D22: 0.34537418 | E22: -0.27689563 | F22: 0.24755058 | G22: -0.16631004 | H22: 0.37251381 | I22: -0.090670465 | J22: -0.26530954 | K22: 0.35198181 | L22: 0.15668428 | M22: -0.21560021 | N22: -0.0037430925 | O22: -0.11433753 | P22: 0.38610965 | Q22: -0.03627185 | R22: -0.023728382 | S22: -0.075743081 | T22: -0.0062291808 | U22: 0.01532947 | V22: -0.095654509 | W22: 0.88743711 | X22: -0.1472092 | Y22: -0.32155233 | Z22: 0.12970488 | AA22: 0.076464686 | AB22: 0.43638457 | AC22: -0.25183457
B23: Fuente: Ministerio de Hacienda y Crédito Público. Ejecución de ingresos y gastos de las entidades que conforman el Presupuesto General de la Nación.
B24: Nota 1/: Información a agosto de 2026.
B26: Deflactor 2026 | C26: ='CUADRO 3A'!C26 -> 0.2679589 | D26: ='CUADRO 3A'!D26 -> 0.28845321 | E26: ='CUADRO 3A'!E26 -> 0.3086214 | F26: ='CUADRO 3A'!F26 -> 0.32865513 | G26: ='CUADRO 3A'!G26 -> 0.34672125 | H26: ='CUADRO 3A'!H26 -> 0.36355514 | I26: ='CUADRO 3A'!I26 -> 0.37983495 | J26: ='CUADRO 3A'!J26 -> 0.40146451 | ... AC26: ='CUADRO 3A'!AC26 -> 1

Sheet CUADRO 4A
B7: Cuadro No. 4A. Aforo Fondos Especiales de la Nación
B8: Valores en millones de pesos (precios constantes 2026)
B9: CONCEPTO | C9: 2000 | D9: 2001 | E9: 2002 | F9: 2003 | G9: 2004 | H9: 2005 | I9: 2006 | J9: 2007 | K9: 2008 | L9: 2009 | M9: 2010 | N9: 2011 | O9: 2012 | P9: 2013 | Q9: 2014 | R9: 2015 | S9: 2016 | T9: 2017 | U9: 2018 | V9: 2019 | W9: 2020 | X9: 2021 | Y9: 2022 | Z9: 2023 | AA9: 2024 | AB9: 2025 | AC9: 2026 3/
B10: 6-0-02 CONTRIBUCIÓN ENTIDADES VIGILADAS CONTRALORIA GENERAL NACION | C10: 483639.07 | D10: 465263.52 | E10: 465392.94 | F10: 441910.09 | G10: 448169.46 | H10: 484459.67 | I10: 500829.38 | J10: 462772.55 | K10: 492235.97 | L10: 571928.24 | M10: 621331.84 | N10: 600552.83 | O10: 725548.91 | P10: 821372.43 | Q10: 836265.45 | R10: 727801.57 | S10: 766304.56 | T10: 762341 | U10: 782053.22 | V10: 778883.95 | W10: 1124372.7 | X10: 1367221.8 | Y10: 1304784.7 | Z10: 1339691.7 | AA10: 1397613.1 | AB10: 1403963.6 | AC10: 1394971
B11: 6-0-03 CONTRIBUCIÓN ENTIDADES VIGILADAS SUPERINTENDENCIA SUBSIDIO FAMILIAR | C11: 12543.875 | D11: 12731.97 | E11: 12543.062 | F11: 10442.092 | G11: 12601.23 | H11: 12912.088 | I11: 23777.776 | J11: 29131.93 | K11: 26589.97 | L11: 46059.027 | M11: 29443.375 | N11: 29100.361 | O11: 39654.91 | P11: 74143.549 | Q11: 43318.932 | R11: 40153.06 | S11: 52875.937 | T11: 58242.279 | U11: 53229.756 | V11: 51560.39 | W11: 53277.401 | X11: 76840.541 | Y11: 64576.141 | Z11: 74730.826 | AA11: 77227.233 | AB11: 79890.776 | AC11: 86007.501
B12: 6-0-05 SUPERINTENDENCIA INDUSTRIA Y COMERCIO | C12: 67587.476 | D12: 68232.492 | E12: 73711.475 | F12: 69935.187 | G12: 63562.698 | H12: 62716.767 | I12: 62381.042 | J12: 89086.127 | K12: 0 | L12: 0 | M12: 0 | N12: 0 | O12: 0 | P12: 0 | Q12: 0 | R12: 0 | S12: 0 | T12: 0 | U12: 0 | V12: 0 | W12: 0 | X12: 0 | Y12: 0 | Z12: 0 | AA12: 0 | AB12: 0 | AC12: 0
B13: 6-0-06 SUPERINTENDENCIA NACIONAL DE VALORES | C13: 14994.065 | D13: 15028.271 | E13: 17263.547 | F13: 39566.711 | G13: 41760.835 | H13: 36448.934 | I13: 43236.033 | J13: 0 | K13: 0 | L13: 0 | M13: 0 | N13: 0 | O13: 0 | P13: 0 | Q13: 0 | R13: 0 | S13: 0 | T13: 0 | U13: 0 | V13: 0 | W13: 0 | X13: 0 | Y13: 0 | Z13: 0 | AA13: 0 | AB13: 0 | AC13: 0
B14: 6-0-07 CONTRIBUCION ENTIDADES VIGILADAS SUPERPUERTOS | C14: 68104.161 | D14: 29527.866 | E14: 24011.026 | F14: 13539.755 | G14: 23338.633 | H14: 7115.5644 | I14: 7827.3471 | J14: 8220.8264 | K14: 8024.7642 | L14: 9023.7019 | M14: 8031.2504 | N14: 7650.9404 | O14: 68130.874 | P14: 64772.411 | Q14: 61669.256 | R14: 70244.53 | S14: 0 | T14: 0 | U14: 0 | V14: 0 | W14: 0 | X14: 0 | Y14: 0 | Z14: 0 | AA14: 0 | AB14: 0 | AC14: 0
B15: 6-0-08 CONTRIBUCION PARA LA DESCENTRALIZACION | C15: 1081471.7 | D15: 0 | E15: 0 | F15: 0 | G15: 0 | H15: 0 | I15: 0 | J15: 0 | K15: 0 | L15: 0 | M15: 0 | N15: 0 | O15: 0 | P15: 0 | Q15: 0 | R15: 0 | S15: 0 | T15: 0 | U15: 0 | V15: 0 | W15: 0 | X15: 0 | Y15: 0 | Z15: 0 | AA15: 0 | AB15: 0 | AC15: 0
B16: 6-0-09 FINANCIACION SECTOR JUSTICIA | C16: 317532.97 | D16: 407047.38 | E16: 337389.83 | F16: 262964.8 | G16: 390302.56 | H16: 391106.14 | I16: 459617.26 | J16: 479153.25 | K16: 583079.53 | L16: 716004.43 | M16: 806574.85 | N16: 465824.13 | O16: 536124.1 | P16: 729445.2 | Q16: 650471.37 | R16: 734374.93 | S16: 893835.71 | T16: 1217014.1 | U16: 859825.75 | V16: 908557.64 | W16: 1033950 | X16: 1096442.6 | Y16: 1262483.9 | Z16: 1263321.5 | AA16: 1708765.2 | AB16: 1226000.6 | AC16: 1261837.1
B17: 6-0-10 FONDO DE DEFENSA NACIONAL | C17: 117803.81 | D17: 158730.77 | E17: 140286.17 | F17: 151895.44 | G17: 177585.27 | H17: 128107.92 | I17: 143799.3 | J17: 133580.68 | K17: 129531.15 | L17: 142479.15 | M17: 141632.73 | N17: 133253.35 | O17: 194615.98 | P17: 198102.69 | Q17: 167615.08 | R17: 135313.87 | S17: 57475.73 | T17: 56660.398 | U17: 5439.3006 | V17: 0 | W17: 0 | X17: 19795.339 | Y17: 115687.8 | Z17: 11723.68 | AA17: 5014.8821 | AB17: 6301.5445 | AC17: 30546
B18: 6-0-13 FONDO ESTUPEFACIENTES - MINSALUD | C18: 11736.586 | D18: 10718.368 | E18: 11370.71 | F18: 12124.652 | G18: 12149.691 | H18: 12092.16 | I18: 13041.962 | J18: 16958.677 | K18: 16434.358 | L18: 19110.163 | M18: 18716.21 | N18: 17210.059 | O18: 18031.266 | P18: 18572.622 | Q18: 22314.09 | R18: 28681.456 | S18: 23696.004 | T18: 25136.58 | U18: 25164.824 | V18: 35269.01 | W18: 36151.162 | X18: 44528.265 | Y18: 49120.611 | Z18: 34763.563 | AA18: 37117.155 | AB18: 39573.499 | AC18: 41654.733
B19: 6-0-14 FONDOS INTERNOS MINISTERIO DEFENSA | C19: 420671.46 | D19: 471616.2 | E19: 411993.75 | F19: 430621.26 | G19: 499058.94 | H19: 366644.57 | I19: 495441.75 | J19: 579004.32 | K19: 448328.67 | L19: 478606.7 | M19: 484274.58 | N19: 473057.93 | O19: 631516.47 | P19: 713241.74 | Q19: 713709.7 | R19: 730196.14 | S19: 609153.05 | T19: 560060.25 | U19: 665418.68 | V19: 689091.79 | W19: 627426.46 | X19: 704277.26 | Y19: 579005.3 | Z19: 527155.27 | AA19: 606876.51 | AB19: 525839.41 | AC19: 513299
B20: 6-0-15 FONDOS INTERNOS POLICIA NACIONAL | C20: 244452.42 | D20: 322363.33 | E20: 252212.65 | F20: 227100.97 | G20: 244663.27 | H20: 232828.84 | I20: 247159.98 | J20: 251850.41 | K20: 264297.41 | L20: 307205.36 | M20: 350342.99 | N20: 306705.69 | O20: 306905.93 | P20: 359098.02 | Q20: 332458.17 | R20: 368384.35 | S20: 316099.81 | T20: 304484.25 | U20: 308871.31 | V20: 263519.51 | W20: 319497.2 | X20: 362853.68 | Y20: 301535.98 | Z20: 312597.86 | AA20: 245139.69 | AB20: 183785 | AC20: 82060
B21: 6-0-17 FONDO ROTATORIO DE MINAS Y ENERGÍA | C21: 1679.362 | D21: 520.01501 | E21: 259.21728 | F21: 152.13516 | G21: 144.20806 | H21: 0 | I21: 131.63612 | J21: 140.73473 | K21: 0 | L21: 137.6643 | M21: 265.9864 | N21: 264.48323 | O21: 265.92906 | P21: 268.69361 | Q21: 236.88825 | R21: 228.52384 | S21: 215.95601 | T21: 197.09761 | U21: 196.75437 | V21: 189.55141 | W21: 459.21012 | X21: 1014.4767 | Y21: 896.81462 | Z21: 0 | AA21: 0 | AB21: 0 | AC21: 0
... B80: TOTAL AFORO FONDOS ESPECIALES DE LA NACIÓN | C80: 9153040.3 | D80: 11369425 | E80: 9403839.1 | F80: 7642186.9 | G80: 9602475.7 | H80: 9129573.4 | I80: 11730059 | J80: 12210063 | K80: 9611329.8 | L80: 13784823 | M80: 19620028 | N80: 16597453 | O80: 17742302 | P80: 26375830 | Q80: 40495188 | R80: 35930824 | S80: 31563234 | T80: 23569904 | U80: 18018532 | V80: 16617806 | W80: 80175928 | X80: 53453018 | Y80: 17463132 | Z80: 17089312 | AA80: 16947325 | AB80: 18397103 | AC80: 17482810
B81: Variación Porcentual | D81: 0.2421474 | E81: -0.17288351 | F81: -0.18733331 | G81: 0.25650888 | H81: -0.049247957 | I81: 0.28484197 | J81: 0.040920826 | K81: -0.21283534 | L81: 0.43422637 | M81: 0.42330651 | N81: -0.15405556 | O81: 0.068977365 | P81: 0.48660695 | Q81: 0.53531429 | R81: -0.11271373 | S81: -0.12155553 | T81: -0.25324811 | U81: -0.23552799 | V81: -0.07773807 | W81: 3.8246999 | X81: -0.33330341 | Y81: -0.67329943 | Z81: -0.0214062 | AA81: -0.0083085182 | AB81: 0.085546126 | AC81: -0.049697671
B82: Fuente: Ministerio de Hacienda y Crédito Público. Ejecución de ingresos y gastos de las entidades que conforman el Presupuesto General de la Nación.
B83: Nota 1/: Información a agosto de 2026.
B85: Deflactor 2026 | C85: ='CUADRO 3B'!C26 -> 0.2679589 | D85: ='CUADRO 3B'!D26 -> 0.28845321 | E85: ='CUADRO 3B'!E26 -> 0.3086214 | F85: ='CUADRO 3B'!F26 -> 0.32865513 | G85: ='CUADRO 3B'!G26 -> 0.34672125 | H85: ='CUADRO 3B'!H26 -> 0.36355514 | I85: ='CUADRO 3B'!I26 -> 0.37983495 | J85: ='CUADRO 3B'!J26 -> 0.40146451 | ... AC85: ='CUADRO 3B'!AC26 -> 1

Sheet CUADRO 4B
B7: Cuadro No. 4B. Recaudo Fondos Especiales de la Nación
B8: Valores en millones de pesos (precios constantes 2026)
B9: CONCEPTO | C9: 2000 | D9: 2001 | E9: 2002 | F9: 2003 | G9: 2004 | H9: 2005 | I9: 2006 | J9: 2007 | K9: 2008 | L9: 2009 | M9: 2010 | N9: 2011 | O9: 2012 | P9: 2013 | Q9: 2014 | R9: 2015 2/ | S9: 2016 2/ | T9: 2017 | U9: 2018 | V9: 2019 | W9: 2020 | X9: 2021 | Y9: 2022 | Z9: 2023 | AA9: 2024 | AB9: 2025 | AC9: 2026 3/
B10: 6-0-02 CONTRIBUCION ENTIDADES VIGILADAS CONTRALORIA GENERAL NACION | C10: 127543.53 | D10: 175739.93 | E10: 183655.88 | F10: 185832.7 | G10: 130704.01 | H10: 159197.59 | I10: 193987.29 | J10: 153872.31 | K10: 156291.17 | L10: 150688.9 | M10: 255715.14 | N10: 258273.17 | O10: 248277.33 | P10: 127597.95 | Q10: 562536.7 | R10: 713621.93 | S10: 742110.49 | T10: 740584.22 | U10: 685519.01 | V10: 758885.81 | W10: 1147194.4 | X10: 1203931.4 | Y10: 1372348.6 | Z10: 957057.82 | AA10: 1688573.2 | AB10: 1359105.4 | AC10: 40132.609
B11: 6-0-03 CONTRIBUCION SUPERINTENDENCIA SUBSIDIO FAMILIAR | C11: 1947.6523 | D11: 11620.562 | E11: 13279.236 | F11: 11080.88 | G11: 12459.003 | H11: 12873.808 | I11: 23777.776 | J11: 31622.811 | K11: 27951.865 | L11: 29825.122 | M11: 29443.375 | N11: 29100.361 | O11: 39654.91 | P11: 65249.787 | Q11: 29888.587 | R11: 14133.698 | S11: 60651.133 | T11: 59075.173 | U11: 42038.502 | V11: 17340.599 | W11: 50245.793 | X11: 67929.859 | Y11: 46788.152 | Z11: 69208.671 | AA11: 68804.355 | AB11: 66573.846 | AC11: 71991.544
B12: 6-0-05 SUPERINTENDENCIA INDUSTRIA Y COMERCIO | C12: 53560.657 | D12: 53554.85 | E12: 58094.76 | F12: 70604.062 | G12: 77372.952 | H12: 74796.258 | I12: 77152.27 | J12: 75931.656 | K12: 0 | L12: 0 | M12: 0 | N12: 0 | O12: 0 | P12: 0 | Q12: 0 | R12: 0 | S12: 0 | T12: 0 | U12: 0 | V12: 0 | W12: 0 | X12: 0 | Y12: 0 | Z12: 0 | AA12: 0 | AB12: 0 | AC12: 0
B13: 6-0-06 SUPERINTENDENCIA NACIONAL DE VALORES | C13: 17156.835 | D13: 20091.525 | E13: 20868.156 | F13: 20248.448 | G13: 27951.466 | H13: 34022.669 | I13: 0 | J13: 0 | K13: 0 | L13: 0 | M13: 0 | N13: 0 | O13: 0 | P13: 0 | Q13: 0 | R13: 0 | S13: 0 | T13: 0 | U13: 0 | V13: 0 | W13: 0 | X13: 0 | Y13: 0 | Z13: 0 | AA13: 0 | AB13: 0 | AC13: 0
B14: 6-0-07 CONTRIBUCION ENTIDADES VIGILADAS SUPERPUERTOS | C14: 28976.642 | D14: 37443.432 | E14: 24930.815 | F14: 1101.3245 | G14: 7068.6534 | H14: 15191.444 | I14: 8034.5048 | J14: 4392.6774 | K14: 8442.0969 | L14: 7674.5005 | M14: 7779.6219 | N14: 7784.6435 | O14: 67598.909 | P14: 10941.559 | Q14: 61870.37 | R14: 54172.587 | S14: 573.57376 | T14: 0 | U14: 39654.449 | V14: 0 | W14: 0 | X14: 0 | Y14: 0 | Z14: 0 | AA14: 0 | AB14: 0 | AC14: 0
B15: 6-0-08 CONTRIBUCION PARA LA DESCENTRALIZACION | C15: 0 | D15: 0 | E15: 0 | F15: 0 | G15: 0 | H15: 0 | I15: 0 | J15: 0 | K15: 0 | L15: 0 | M15: 0 | N15: 0 | O15: 0 | P15: 0 | Q15: 0 | R15: 0 | S15: 0 | T15: 0 | U15: 0 | V15: 0 | W15: 0 | X15: 0 | Y15: 0 | Z15: 0 | AA15: 0 | AB15: 0 | AC15: 0
B16: 6-0-09 FINANCIACION SECTOR JUSTICIA | C16: 305273.47 | D16: 381005.38 | E16: 368558.19 | F16: 311296.41 | G16: 328521.09 | H16: 462626.76 | I16: 499651.27 | J16: 458119.94 | K16: 504563.36 | L16: 773868.2 | M16: 619504.68 | N16: 579674.76 | O16: 641410.44 | P16: 695702.89 | Q16: 754404.4 | R16: 816102.84 | S16: 750425.1 | T16: 674244.73 | U16: 1048101.2 | V16: 1092534 | W16: 1052969.8 | X16: 2031864.7 | Y16: 1688739.4 | Z16: 1374642.1 | AA16: 1388826.5 | AB16: 1496763.7 | AC16: 1054747.8
B17: 6-0-10 FONDO DEFENSA NACIONAL | C17: 113852.34 | D17: 160988.28 | E17: 150196.09 | F17: 138273.62 | G17: 169984.63 | H17: 181767.2 | I17: 185865.53 | J17: 224632.74 | K17: 104104.52 | L17: 148199.66 | M17: 116655.46 | N17: 152429.42 | O17: 233022.06 | P17: 190960.86 | Q17: 146834.28 | R17: 79008.99 | S17: 70336.31 | T17: 44640.273 | U17: 4275.2038 | V17: 13894.658 | W17: 8161.7751 | X17: 12851.272 | Y17: 9964.2257 | Z17: 6433.3255 | AA17: 8158.9615 | AB17: 23070.591 | AC17: 6068.517
B18: 6-0-13 FONDO ESTUPEFACIENTES - MINSALUD | C18: 21243.333 | D18: 26218.426 | E18: 26158.449 | F18: 31897.128 | G18: 33890.753 | H18: 30096.52 | I18: 34948.793 | J18: 34663.408 | K18: 35680.88 | L18: 26983.816 | M18: 17599.26 | N18: 17222.534 | O18: 19574.804 | P18: 25319.872 | Q18: 26015.584 | R18: 22155.49 | S18: 28648.456 | T18: 28524.172 | U18: 41931.471 | V18: 47922.999 | W18: 44740.808 | X18: 35054.831 | Y18: 35757.547 | Z18: 32139.516 | AA18: 37488.261 | AB18: 42272.548 | AC18: 23973.562
B19: 6-0-14 FONDOS INTERNOS MINISTERIO DEFENSA | C19: 429163.58 | D19: 405501.85 | E19: 442739.6 | F19: 417908.98 | G19: 500982.57 | H19: 443548.65 | I19: 399359.26 | J19: 439779.04 | K19: 436957.06 | L19: 463681.25 | M19: 426991.15 | N19: 501212.38 | O19: 546707.77 | P19: 654858.83 | Q19: 638486.91 | R19: 604421.85 | S19: 632385.52 | T19: 588097.59 | U19: 710465.37 | V19: 692934.35 | W19: 604846.21 | X19: 615721.23 | Y19: 615859.02 | Z19: 582384.85 | AA19: 594598.82 | AB19: 663861.95 | AC19: 481726.13
B20: 6-0-15 FONDOS INTERNOS POLICIA NACIONAL | C20: 246392.1 | D20: 259770.2 | E20: 232444.64 | F20: 267717.88 | G20: 229621.66 | H20: 250394.54 | I20: 277371.49 | J20: 327479.81 | K20: 261957.62 | L20: 306219.75 | M20: 322025.72 | N20: 424607.82 | O20: 416631.82 | P20: 401416.31 | Q20: 398280.91 | R20: 381798.24 | S20: 350716.84 | T20: 327780.55 | U20: 338221.45 | V20: 312962.38 | W20: 244820.99 | X20: 357142.22 | Y20: 2367249.4 | Z20: 278862.69 | AA20: 257877.69 | AB20: 279862.03 | AC20: 155516.02
B21: 6-0-17 FONDO ROTATORIO MINISTERIO MINAS Y ENERGIA | C21: 45.729987 | D21: 191.26037 | E21: 154.58919 | F21: 1213.6367 | G21: 40.054888 | H21: 69.564661 | I21: 858.60939 | J21: 2764.7947 | K21: 3487.6889 | L21: 75.011053 | M21: 475.25423 | N21: 13.078143 | O21: 217.86607 | P21: 220.31688 | Q21: 196.16619 | R21: 248.26571 | S21: 208.60617 | T21: 350498.53 | U21: 1092.9117 | V21: 6358.848 | W21: 2970.3134 | X21: 19.975962 | Y21: 2438.9861 | Z21: 64.372952 | AA21: 0.037333011 | AB21: 0 | AC21: 0
